BEGIN:VCALENDAR
VERSION:2.0
PRODID:-//Martık&ouml;y Sitesi - ECPv6.15.17.1//NONSGML v1.0//EN
CALSCALE:GREGORIAN
METHOD:PUBLISH
X-ORIGINAL-URL:https://martikoy.com
X-WR-CALDESC:Martık&ouml;y Sitesi için etkinlikler
REFRESH-INTERVAL;VALUE=DURATION:PT1H
X-Robots-Tag:noindex
X-PUBLISHED-TTL:PT1H
BEGIN:VTIMEZONE
TZID:UTC
BEGIN:STANDARD
TZOFFSETFROM:+0000
TZOFFSETTO:+0000
TZNAME:UTC
DTSTART:20240101T000000
END:STANDARD
END:VTIMEZONE
BEGIN:VEVENT
DTSTART;VALUE=DATE:20250504
DTEND;VALUE=DATE:20250505
DTSTAMP:20260420T133050
CREATED:20250310T091759Z
LAST-MODIFIED:20250310T091929Z
UID:1063-1746316800-1746403199@martikoy.com
SUMMARY:2024 Yılı Mali Genel Kurul
DESCRIPTION:2024 Yılı Mali Genel Kurulumuzun Mayıs 2025 ayı içerisinde yapılması planlamıştır.
URL:https://martikoy.com/etkinlik/2024-yili-mali-genel-kurul/
END:VEVENT
END:VCALENDAR